BEGIN:VCALENDAR
VERSION:2.0
PRODID:https://github.com/derhansen/sf_event_mgt
METHOD:PUBLISH
BEGIN:VEVENT
UID:362-2660@www.varisano.de
CLASS: PUBLIC
SUMMARY:Psychologische Angebote für geriatrische Patient:innen im Kliniksetting
DESCRIPTION:Alicia Dürr, Psychologin der Geriatrischen Klinik am varisano 
 Krankenhaus Hofheim, gibt in diesem Vortrag einen Einblick in die psycholo
 gische Begleitung geriatrischer Patient:innen im klinischen Alltag.\n\nIm
  Mittelpunkt steht die psychologische Unterstützung von Patient:innen im 
 Rahmen der Krankheitsbewältigung sowie die Begleitung in herausfordernden
  gesundheitlichen Situationen.
LOCATION:Krankenhaus Hofheim
DTSTAMP:20260415T123233Z
DTSTART:20260425T130000Z
DTEND:20260425T133000Z
END:VEVENT
END:VCALENDAR