BEGIN:VCALENDAR
VERSION:2.0
PRODID:https://github.com/derhansen/sf_event_mgt
METHOD:PUBLISH
BEGIN:VEVENT
UID:325-2612@www.varisano.de
CLASS: PUBLIC
SUMMARY:10 Jahre gemeinsam fÃ¼r Ihre Gesundheit: Tag der offenen TÃ¼r
DESCRIPTION:Wir feiern JubilÃ¤um â€“ und Sie sind herzlich eingeladen!Â Anl
 Ã¤sslich unseres 10-jÃ¤hrigen Bestehens Ã¶ffnen am 25. April unsere drei K
 rankenhÃ¤user ihre TÃ¼ren fÃ¼r die Ã–ffentlichkeit: in Frankfurt-HÃ¶chst, 
 Bad Soden am Taunus und Hofheim am Taunus.\n\nLernen Sie unsere medizinisc
 hen Angebote kennen, entdecken Sie moderne Technik, informieren Sie sich Ã
 ¼ber Pflege, Therapie und Diagnostik â€“ und kommen Sie mit unseren Expert
 innen und Experten persÃ¶nlich ins GesprÃ¤ch.\n\nFreuen Sie sich auf spann
 ende Einblicke in den Klinikalltag:\n\n 	FÃ¼hrungen durch ausgewÃ¤hlte Ber
 eiche 	InformationsstÃ¤nde unserer Fachabteilungen 	Mitmach-Aktionen fÃ¼r 
 GroÃŸ und Klein 	persÃ¶nliche GesprÃ¤che mit unseren Teams \n\nOb als Pati
 entin oder Patient, AngehÃ¶rige, Nachbarinnen und Nachbarn oder einfach al
 s Interessierte: Wir freuen uns darauf, Sie am 25. April bei uns begrÃ¼ÃŸe
 n zu dÃ¼rfen!\n\nAlle Details zu Programmen, StÃ¤nden, FÃ¼hrungen u.v.m.Â 
  Â \n\nâ–ºam Klinikum Frankfurt HÃ¶chst\n\nâ–ºam Krankenhaus Bad Soden\n\n
 â–ºam Krankenhaus HofheimÂ 
DTSTAMP:20260304T151433Z
DTSTART:20260425T090000Z
DTEND:20260425T140000Z
END:VEVENT
END:VCALENDAR